BEGIN:VCALENDAR
VERSION:2.0
PRODID:-//Plone.org//NONSGML plone.app.event//EN
X-WR-TIMEZONE:Brazil/East
BEGIN:VEVENT
SUMMARY:Sessão solene de posse dos vereadores\, prefeito e vice-prefeito.
DTSTART;TZID=Brazil/East;VALUE=DATE-TIME:20210101T200000
DTEND;TZID=Brazil/East;VALUE=DATE-TIME:20210101T230000
DTSTAMP;VALUE=DATE-TIME:20260422T174857Z
UID:56930f991d9947f48131f91c865d28d4@www.carneirinho.mg.leg.br
ATTENDEE;CN="Vereadores, prefeito, vice-prefeito e seus familiares, convid
 ados e munícipes";ROLE=REQ-PARTICIPANT:Vereadores, prefeito, vice-prefeit
 o e seus familiares, convidados e munícipes
CONTACT:Adjane Luiza de Queiroz\, 03434541275\, secretaria@carneirinho.mg.
 leg.br
CREATED;VALUE=DATE-TIME:20201230T115903Z
LAST-MODIFIED;VALUE=DATE-TIME:20201230T154814Z
LOCATION:Plenário da Câmara Municipal de Carneirinho
URL:https://www.carneirinho.mg.leg.br/institucional/eventos/sessao-solene-
 de-posse-dos-vereadores-prefeito-e-vice-prefeito
END:VEVENT
BEGIN:VTIMEZONE
TZID:Brazil/East
X-LIC-LOCATION:Brazil/East
BEGIN:DAYLIGHT
DTSTART;VALUE=DATE-TIME:20201018T010000
TZNAME:BRST
TZOFFSETFROM:-0300
TZOFFSETTO:-0200
END:DAYLIGHT
END:VTIMEZONE
END:VCALENDAR
