BEGIN:VCALENDAR
VERSION:2.0
PRODID:-//Plone.org//NONSGML plone.app.event//EN
X-WR-TIMEZONE:Brazil/East
BEGIN:VEVENT
SUMMARY:Segunda sessão extraordinária de 2019
DTSTART;TZID=Brazil/East;VALUE=DATE-TIME:20190128T133000
DTEND;TZID=Brazil/East;VALUE=DATE-TIME:20190128T143000
DTSTAMP;VALUE=DATE-TIME:20260422T081118Z
UID:226b0a87b6a3494c8b54b227f03d4e7e@www.carneirinho.mg.leg.br
ATTENDEE;CN="Vereadores, munícipes e quaisquer interessados.";ROLE=REQ-PA
 RTICIPANT:Vereadores, munícipes e quaisquer interessados.
CONTACT:Adjane Luiza de Queiroz\, +553434541275\, secretaria@carneirinho.m
 g.leg.br\, http://sapl.carneirinho.mg.leg.br/consultas/sessao_plenaria/ses
 sao_plenaria_index_html
CREATED;VALUE=DATE-TIME:20190125T160035Z
LAST-MODIFIED;VALUE=DATE-TIME:20190125T160446Z
LOCATION:Plenário da Câmara Municipal de Carneirinho
URL:https://www.carneirinho.mg.leg.br/institucional/eventos/segunda-sessao
 -extraordinaria-de-2019
END:VEVENT
BEGIN:VTIMEZONE
TZID:Brazil/East
X-LIC-LOCATION:Brazil/East
BEGIN:DAYLIGHT
DTSTART;VALUE=DATE-TIME:20181021T010000
TZNAME:BRST
TZOFFSETFROM:-0300
TZOFFSETTO:-0200
END:DAYLIGHT
END:VTIMEZONE
END:VCALENDAR
