BEGIN:VCALENDAR
VERSION:2.0
PRODID:-//Plone.org//NONSGML plone.app.event//EN
X-WR-TIMEZONE:Brazil/East
BEGIN:VEVENT
SUMMARY: Nossa Senhora Aparecida
DTSTART;VALUE=DATE:20201012
DTEND;VALUE=DATE:20201013
DTSTAMP;VALUE=DATE-TIME:20260422T015607Z
UID:2536fa85385c41f1b67f4703a49e6ceb@www.carneirinho.mg.leg.br
CATEGORIES:Feriado
CREATED;VALUE=DATE-TIME:20200114T163320Z
LAST-MODIFIED;VALUE=DATE-TIME:20200114T163334Z
URL:https://www.carneirinho.mg.leg.br/institucional/eventos/nossa-senhora-
 aparecida
END:VEVENT
END:VCALENDAR
