BEGIN:VCALENDAR
VERSION:2.0
PRODID:-//Plone.org//NONSGML plone.app.event//EN
X-WR-TIMEZONE:Brazil/East
BEGIN:VEVENT
SUMMARY:Evento da Secretaria da Saúde
DTSTART;VALUE=DATE:20190412
DTEND;VALUE=DATE:20190413
DTSTAMP;VALUE=DATE-TIME:20260422T093659Z
UID:1715dffdb7a641eeb2d7cbe2980e8fa3@www.carneirinho.mg.leg.br
CONTACT:Fernanda N. V. Perrone\, 03434540200
CREATED;VALUE=DATE-TIME:20190405T164012Z
DESCRIPTION:Plenário reservado para Evento da Secretaria da Saúde da Pre
 feitura Municipal de Carneirinho
LAST-MODIFIED;VALUE=DATE-TIME:20190405T164322Z
LOCATION:Plenário da Câmara Municipal de Carneirinho
URL:https://www.carneirinho.mg.leg.br/institucional/eventos/evento-da-secr
 etaria-da-saude
END:VEVENT
END:VCALENDAR
