BEGIN:VCALENDAR
VERSION:2.0
PRODID:-//Plone.org//NONSGML plone.app.event//EN
X-WR-TIMEZONE:Brazil/East
BEGIN:VEVENT
SUMMARY:8ª reunião extraordinária
DTSTART;TZID=Brazil/East;VALUE=DATE-TIME:20230809T100000
DTEND;TZID=Brazil/East;VALUE=DATE-TIME:20230809T120000
DTSTAMP;VALUE=DATE-TIME:20260426T005607Z
UID:320c44206a4c4959acf1b08789e737af@www.carneirinho.mg.leg.br
ATTENDEE;CN="Vereadores, munícipes e quaisquer interessados.";ROLE=REQ-PA
 RTICIPANT:Vereadores, munícipes e quaisquer interessados.
CONTACT:Adjane Luiza de Queiroz\, 03434541275\, secretaria@carneirinho.mg.
 leg.br\, https://sapl.carneirinho.mg.leg.br/sessao/pesquisar-sessao?data_i
 nicio__year=2023&data_inicio__month=&data_inicio__day=&tipo=&salvar=Pesqui
 sar
CREATED;VALUE=DATE-TIME:20230829T172726Z
LAST-MODIFIED;VALUE=DATE-TIME:20230829T172826Z
LOCATION:Plenário da Câmara Municipal de Carneirinho
URL:https://www.carneirinho.mg.leg.br/institucional/eventos/copy_of_8a-reu
 niao-extraordinaria
END:VEVENT
BEGIN:VTIMEZONE
TZID:Brazil/East
X-LIC-LOCATION:Brazil/East
BEGIN:STANDARD
DTSTART;VALUE=DATE-TIME:20230225T230000
TZNAME:BRT
TZOFFSETFROM:-0200
TZOFFSETTO:-0300
END:STANDARD
END:VTIMEZONE
END:VCALENDAR
