BEGIN:VCALENDAR
VERSION:2.0
PRODID:-//Plone.org//NONSGML plone.app.event//EN
X-WR-TIMEZONE:Brazil/East
BEGIN:VEVENT
SUMMARY:8ª reunião extraordinária
DTSTART;TZID=Brazil/East;VALUE=DATE-TIME:20241029T083000
DTEND;TZID=Brazil/East;VALUE=DATE-TIME:20241029T103000
DTSTAMP;VALUE=DATE-TIME:20260422T095529Z
UID:27d56a0b8f4b40268d0b8bf897f1bd97@www.carneirinho.mg.leg.br
ATTENDEE;CN="Vereadores, munícipes e quaisquer interessados.";ROLE=REQ-PA
 RTICIPANT:Vereadores, munícipes e quaisquer interessados.
CONTACT:Adjane Luiza de Queiroz\, 03434541275\, secretaria@carneirinho.mg.
 leg.br\, https://sapl.carneirinho.mg.leg.br/sessao/400
CREATED;VALUE=DATE-TIME:20241025T173614Z
LAST-MODIFIED;VALUE=DATE-TIME:20241025T173707Z
LOCATION:Plenário da Câmara Municipal de Carneirinho
URL:https://www.carneirinho.mg.leg.br/institucional/eventos/copy3_of_1a-re
 uniao-extraordinaria
END:VEVENT
BEGIN:VTIMEZONE
TZID:Brazil/East
X-LIC-LOCATION:Brazil/East
BEGIN:DAYLIGHT
DTSTART;VALUE=DATE-TIME:20241020T010000
TZNAME:BRST
TZOFFSETFROM:-0300
TZOFFSETTO:-0200
END:DAYLIGHT
END:VTIMEZONE
END:VCALENDAR
