BEGIN:VCALENDAR
VERSION:2.0
PRODID:-//Plone.org//NONSGML plone.app.event//EN
X-WR-TIMEZONE:Brazil/East
BEGIN:VEVENT
SUMMARY:Confraternização Universal\;
DTSTART;VALUE=DATE:20200101
DTEND;VALUE=DATE:20200102
DTSTAMP;VALUE=DATE-TIME:20260422T005937Z
UID:7e553d46e6f34c5a8bb5c52d510621bc@www.carneirinho.mg.leg.br
CATEGORIES:Feriado
CREATED;VALUE=DATE-TIME:20200114T160424Z
LAST-MODIFIED;VALUE=DATE-TIME:20200114T160446Z
URL:https://www.carneirinho.mg.leg.br/institucional/eventos/confraternizac
 ao-universal
END:VEVENT
END:VCALENDAR
