BEGIN:VCALENDAR
VERSION:2.0
PRODID:-//Plone.org//NONSGML plone.app.event//EN
X-WR-TIMEZONE:Brazil/East
BEGIN:VEVENT
SUMMARY:Aniversário de Carneirinho
DTSTART;VALUE=DATE:20200428
DTEND;VALUE=DATE:20200429
DTSTAMP;VALUE=DATE-TIME:20260425T110836Z
UID:965d69c7b33648dda7ee34a23619539a@www.carneirinho.mg.leg.br
CATEGORIES:Feriado
CREATED;VALUE=DATE-TIME:20200114T163744Z
LAST-MODIFIED;VALUE=DATE-TIME:20200114T163747Z
URL:https://www.carneirinho.mg.leg.br/institucional/eventos/aniversario-de
 -carneirinho
END:VEVENT
END:VCALENDAR
