BEGIN:VCALENDAR
VERSION:2.0
PRODID:-//Plone.org//NONSGML plone.app.event//EN
X-WR-TIMEZONE:Brazil/East
BEGIN:VEVENT
SUMMARY:9.ª reunião ordinária de 2018
DTSTART;TZID=Brazil/East;VALUE=DATE-TIME:20181220T133000
DTEND;TZID=Brazil/East;VALUE=DATE-TIME:20181220T173000
DTSTAMP;VALUE=DATE-TIME:20260424T041109Z
UID:4e86b2c2a43b4468896da85163fe553b@www.carneirinho.mg.leg.br
ATTENDEE;CN="Vereadores, Munícipes e quaisquer interessados.";ROLE=REQ-PA
 RTICIPANT:Vereadores, Munícipes e quaisquer interessados.
CONTACT:Adjane Luiza de Queiroz\, +553434541275\, secretaria@carneirinho.m
 g.leg.br\, http://sapl.carneirinho.mg.leg.br/consultas/sessao_plenaria/ses
 sao_plenaria_index_html
CREATED;VALUE=DATE-TIME:20181217T190032Z
LAST-MODIFIED;VALUE=DATE-TIME:20181217T190814Z
LOCATION:Plenário da câmara municipal
URL:https://www.carneirinho.mg.leg.br/institucional/eventos/9-a-reuniao-or
 dinaria-de-2018
END:VEVENT
BEGIN:VTIMEZONE
TZID:Brazil/East
X-LIC-LOCATION:Brazil/East
BEGIN:DAYLIGHT
DTSTART;VALUE=DATE-TIME:20181021T010000
TZNAME:BRST
TZOFFSETFROM:-0300
TZOFFSETTO:-0200
END:DAYLIGHT
END:VTIMEZONE
END:VCALENDAR
