BEGIN:VCALENDAR
VERSION:2.0
PRODID:-//Plone.org//NONSGML plone.app.event//EN
X-WR-TIMEZONE:Brazil/East
BEGIN:VEVENT
SUMMARY:8.ª reunião extraordinária de 2021
DTSTART;TZID=Brazil/East;VALUE=DATE-TIME:20210927T133000
DTEND;TZID=Brazil/East;VALUE=DATE-TIME:20210927T170000
DTSTAMP;VALUE=DATE-TIME:20260421T183601Z
UID:8c7778e26f584225b75a54eddcf71e09@www.carneirinho.mg.leg.br
ATTENDEE;CN="Vereadores, munícipes e quaisquer interessados.";ROLE=REQ-PA
 RTICIPANT:Vereadores, munícipes e quaisquer interessados.
CONTACT:Adjane Luiza de Queiroz\, +55 34 34541275\, secretaria@carneirinho
 .mg.leg.br\, http://sapl.carneirinho.mg.leg.br/consultas/sessao_plenaria/s
 essao_plenaria_index_html
CREATED;VALUE=DATE-TIME:20210927T154225Z
LAST-MODIFIED;VALUE=DATE-TIME:20210927T154229Z
LOCATION:Plenário Onízio Queiroz de Lima
URL:https://www.carneirinho.mg.leg.br/institucional/eventos/8-a-reuniao-ex
 traordinaria-de-2021
END:VEVENT
BEGIN:VTIMEZONE
TZID:Brazil/East
X-LIC-LOCATION:Brazil/East
BEGIN:STANDARD
DTSTART;VALUE=DATE-TIME:20210220T230000
TZNAME:BRT
TZOFFSETFROM:-0200
TZOFFSETTO:-0300
END:STANDARD
END:VTIMEZONE
END:VCALENDAR
