BEGIN:VCALENDAR
VERSION:2.0
PRODID:-//Plone.org//NONSGML plone.app.event//EN
X-WR-TIMEZONE:Brazil/East
BEGIN:VEVENT
SUMMARY:7ª reunião extraordinária de 2018
DTSTART;TZID=Brazil/East;VALUE=DATE-TIME:20181112T133000
DTEND;TZID=Brazil/East;VALUE=DATE-TIME:20181112T173000
DTSTAMP;VALUE=DATE-TIME:20260421T234539Z
UID:3de48b3206f044378333e0b381f404dd@www.carneirinho.mg.leg.br
ATTENDEE;CN="Vereadores, munícipes e quaisquer interessados.";ROLE=REQ-PA
 RTICIPANT:Vereadores, munícipes e quaisquer interessados.
CONTACT:Adjane Luiza de Queiroz\, ++553434541275\, secretaria@carneirinho.
 mg.leg.br\, http://sapl.carneirinho.mg.leg.br/consultas/sessao_plenaria/se
 ssao_plenaria_index_html
CREATED;VALUE=DATE-TIME:20181109T102027Z
LAST-MODIFIED;VALUE=DATE-TIME:20181109T102125Z
LOCATION:Plenário da Câmara Municipal de Carneirinho
URL:https://www.carneirinho.mg.leg.br/institucional/eventos/7a-reuniao-ext
 raordinaria-de-2018
END:VEVENT
BEGIN:VTIMEZONE
TZID:Brazil/East
X-LIC-LOCATION:Brazil/East
BEGIN:DAYLIGHT
DTSTART;VALUE=DATE-TIME:20181021T010000
TZNAME:BRST
TZOFFSETFROM:-0300
TZOFFSETTO:-0200
END:DAYLIGHT
END:VTIMEZONE
END:VCALENDAR
