BEGIN:VCALENDAR
VERSION:2.0
PRODID:-//Plone.org//NONSGML plone.app.event//EN
X-WR-TIMEZONE:Brazil/East
BEGIN:VEVENT
SUMMARY:4.ª reunião ordinária de 2022
DTSTART;TZID=Brazil/East;VALUE=DATE-TIME:20220321T133000
DTEND;TZID=Brazil/East;VALUE=DATE-TIME:20220321T173000
DTSTAMP;VALUE=DATE-TIME:20260422T081243Z
UID:d7ba8723adcc416ebf6d781d4a57fa95@www.carneirinho.mg.leg.br
ATTENDEE;CN="Vereadores, munícipes e quaisquer interessados.";ROLE=REQ-PA
 RTICIPANT:Vereadores, munícipes e quaisquer interessados.
CONTACT:Adjane Luiza de Queiroz\, +553434541275\, secretaria@carneirinho.m
 g.leg.br\, http://sapl.carneirinho.mg.leg.br/consultas/sessao_plenaria/ses
 sao_plenaria_index_html
CREATED;VALUE=DATE-TIME:20220127T201905Z
LAST-MODIFIED;VALUE=DATE-TIME:20220127T202220Z
LOCATION:Plenário Onízio Queiroz de Lima
URL:https://www.carneirinho.mg.leg.br/institucional/eventos/4-a-reuniao-or
 dinaria-de-2022
END:VEVENT
BEGIN:VTIMEZONE
TZID:Brazil/East
X-LIC-LOCATION:Brazil/East
BEGIN:STANDARD
DTSTART;VALUE=DATE-TIME:20220219T230000
TZNAME:BRT
TZOFFSETFROM:-0200
TZOFFSETTO:-0300
END:STANDARD
END:VTIMEZONE
END:VCALENDAR
