BEGIN:VCALENDAR
VERSION:2.0
PRODID:-//Plone.org//NONSGML plone.app.event//EN
X-WR-TIMEZONE:Brazil/East
BEGIN:VEVENT
SUMMARY:4.ª reunião extraordinária de 2020
DTSTART;TZID=Brazil/East;VALUE=DATE-TIME:20200313T110000
DTEND;TZID=Brazil/East;VALUE=DATE-TIME:20200313T170000
DTSTAMP;VALUE=DATE-TIME:20260422T081258Z
UID:183d527cbd604d68b88e41893c8a6b29@www.carneirinho.mg.leg.br
ATTENDEE;CN="Vereadores, munícipes e quaisquer interessados.";ROLE=REQ-PA
 RTICIPANT:Vereadores, munícipes e quaisquer interessados.
CONTACT:Adjane Luiza de Queiroz\, +55 34 34541275\, secretaria@carneirinho
 .mg.leg.br\, http://sapl.carneirinho.mg.leg.br/consultas/sessao_plenaria/s
 essao_plenaria_index_html
CREATED;VALUE=DATE-TIME:20200311T202328Z
LAST-MODIFIED;VALUE=DATE-TIME:20200311T202332Z
LOCATION:Plenário da Câmara Municipal de Carneirinho
URL:https://www.carneirinho.mg.leg.br/institucional/eventos/4-a-reuniao-ex
 traordinaria-de-2020
END:VEVENT
BEGIN:VTIMEZONE
TZID:Brazil/East
X-LIC-LOCATION:Brazil/East
BEGIN:STANDARD
DTSTART;VALUE=DATE-TIME:20200215T230000
TZNAME:BRT
TZOFFSETFROM:-0200
TZOFFSETTO:-0300
END:STANDARD
END:VTIMEZONE
END:VCALENDAR
