BEGIN:VCALENDAR
VERSION:2.0
PRODID:-//Plone.org//NONSGML plone.app.event//EN
X-WR-TIMEZONE:Brazil/East
BEGIN:VEVENT
SUMMARY:3.ª reunião extraordinária de 2020
DTSTART;TZID=Brazil/East;VALUE=DATE-TIME:20200311T140000
DTEND;TZID=Brazil/East;VALUE=DATE-TIME:20200311T170000
DTSTAMP;VALUE=DATE-TIME:20260422T081248Z
UID:6f76c97f71ac44b690c4c5025fe80c48@www.carneirinho.mg.leg.br
ATTENDEE;CN="Vereadores, munícipes e quaisquer interessados.";ROLE=REQ-PA
 RTICIPANT:Vereadores, munícipes e quaisquer interessados.
CONTACT:Adjane Luiza de Queiroz\, +55 34 34541275\, secretaria@carneirinho
 .mg.leg.br\, http://sapl.carneirinho.mg.leg.br/consultas/sessao_plenaria/s
 essao_plenaria_index_html
CREATED;VALUE=DATE-TIME:20200311T202153Z
LAST-MODIFIED;VALUE=DATE-TIME:20200311T202405Z
LOCATION:Plenário da Câmara Municipal de Carneirinho
URL:https://www.carneirinho.mg.leg.br/institucional/eventos/3-a-reuniao-ex
 traordinaria-de-2020
END:VEVENT
BEGIN:VTIMEZONE
TZID:Brazil/East
X-LIC-LOCATION:Brazil/East
BEGIN:STANDARD
DTSTART;VALUE=DATE-TIME:20200215T230000
TZNAME:BRT
TZOFFSETFROM:-0200
TZOFFSETTO:-0300
END:STANDARD
END:VTIMEZONE
END:VCALENDAR
