BEGIN:VCALENDAR
VERSION:2.0
PRODID:-//Plone.org//NONSGML plone.app.event//EN
X-WR-TIMEZONE:Brazil/East
BEGIN:VEVENT
SUMMARY:2ª Reunião extraordinária de 2017
DTSTART;TZID=Brazil/East;VALUE=DATE-TIME:20170116T133000
DTEND;TZID=Brazil/East;VALUE=DATE-TIME:20170116T173000
DTSTAMP;VALUE=DATE-TIME:20260422T021408Z
UID:0d90db63572e4308bf39a28e8171f5c5@pm3.carneirinho.mg.leg.br
ATTENDEE;CN="Vereadores, munícipes e quaisquer interessados.";ROLE=REQ-PA
 RTICIPANT:Vereadores, munícipes e quaisquer interessados.
CONTACT:Adjane Luiza de Queiroz \, 034 3454 1275\, secretaria@carneirinho.
 mg.leg.br\, http://sapl.carneirinho.mg.leg.br/sapl/consultas/sessao_plenar
 ia/sessao_plenaria_index_html
CREATED;VALUE=DATE-TIME:20170116T150819Z
LAST-MODIFIED;VALUE=DATE-TIME:20170116T150832Z
LOCATION:Plenário da Câmara Municipal de Carneirinho
URL:https://www.carneirinho.mg.leg.br/institucional/eventos/2a-reuniao-ext
 raordinaria-de-2017
END:VEVENT
BEGIN:VTIMEZONE
TZID:Brazil/East
X-LIC-LOCATION:Brazil/East
BEGIN:DAYLIGHT
DTSTART;VALUE=DATE-TIME:20161016T010000
TZNAME:BRST
TZOFFSETFROM:-0300
TZOFFSETTO:-0200
END:DAYLIGHT
END:VTIMEZONE
END:VCALENDAR
