BEGIN:VCALENDAR
VERSION:2.0
PRODID:-//Plone.org//NONSGML plone.app.event//EN
X-WR-TIMEZONE:Brazil/East
BEGIN:VEVENT
SUMMARY:Vigésima sessão reunião ordinária de 2019
DTSTART;TZID=Brazil/East;VALUE=DATE-TIME:20191216T133000
DTEND;TZID=Brazil/East;VALUE=DATE-TIME:20191216T173000
DTSTAMP;VALUE=DATE-TIME:20260421T214704Z
UID:bb8440301748425492a3c6b9505474ee@www.carneirinho.mg.leg.br
ATTENDEE;CN="Vereadores, munícipes e quaisquer interessados.";ROLE=REQ-PA
 RTICIPANT:Vereadores, munícipes e quaisquer interessados.
CATEGORIES:Reunião Ordinária
CONTACT:Adjane Luiza de Queiroz\, +553434541275\, secretaria@carneirinho.m
 g.leg.br\, http://sapl.carneirinho.mg.leg.br/consultas/sessao_plenaria/ses
 sao_plenaria_index_html
CREATED;VALUE=DATE-TIME:20190115T122922Z
LAST-MODIFIED;VALUE=DATE-TIME:20190117T113454Z
LOCATION:Plenário da Câmara Municipal de Carneirinho
URL:https://www.carneirinho.mg.leg.br/institucional/eventos/20a-reuniao-or
 dinaria-de-2019
END:VEVENT
BEGIN:VTIMEZONE
TZID:Brazil/East
X-LIC-LOCATION:Brazil/East
BEGIN:DAYLIGHT
DTSTART;VALUE=DATE-TIME:20191020T010000
TZNAME:BRST
TZOFFSETFROM:-0300
TZOFFSETTO:-0200
END:DAYLIGHT
END:VTIMEZONE
END:VCALENDAR
