BEGIN:VCALENDAR
VERSION:2.0
PRODID:-//Plone.org//NONSGML plone.app.event//EN
X-WR-TIMEZONE:Brazil/East
BEGIN:VEVENT
SUMMARY:1ª reunião ordinária de 2018
DTSTART;TZID=Brazil/East;VALUE=DATE-TIME:20180205T133000
DTEND;TZID=Brazil/East;VALUE=DATE-TIME:20180205T173000
DTSTAMP;VALUE=DATE-TIME:20260421T214703Z
UID:26242b5228cf47e2b8fc57f6e3effbd0@pm3.carneirinho.mg.leg.br
ATTENDEE;CN="Vereadores, munícipes e quaisquer interessados.";ROLE=REQ-PA
 RTICIPANT:Vereadores, munícipes e quaisquer interessados.
CONTACT:Adjane Luiza de Queiroz\, 034 3454 1275\, secretaria@carneirinho.m
 g.leg.br\, http://sapl.carneirinho.mg.leg.br/sapl/consultas/sessao_plenari
 a/sessao_plenaria_index_html
CREATED;VALUE=DATE-TIME:20180205T122135Z
LAST-MODIFIED;VALUE=DATE-TIME:20180205T122141Z
LOCATION:Plenário da Câmara Municipal de Carneirinho
URL:https://www.carneirinho.mg.leg.br/institucional/eventos/1a-reuniao-ord
 inaria-de-2018
END:VEVENT
BEGIN:VTIMEZONE
TZID:Brazil/East
X-LIC-LOCATION:Brazil/East
BEGIN:DAYLIGHT
DTSTART;VALUE=DATE-TIME:20171015T010000
TZNAME:BRST
TZOFFSETFROM:-0300
TZOFFSETTO:-0200
END:DAYLIGHT
END:VTIMEZONE
END:VCALENDAR
