BEGIN:VCALENDAR
VERSION:2.0
PRODID:-//Plone.org//NONSGML plone.app.event//EN
X-WR-TIMEZONE:Brazil/East
BEGIN:VEVENT
SUMMARY:13ª reunião ordinária de 2018
DTSTART;TZID=Brazil/East;VALUE=DATE-TIME:20180903T133000
DTEND;TZID=Brazil/East;VALUE=DATE-TIME:20180903T170000
DTSTAMP;VALUE=DATE-TIME:20260422T113035Z
UID:60d3572e375343d7ab1030d35d87fc5f@www.carneirinho.mg.leg.br
ATTENDEE;CN="Vereadores, munícipes e quaisquer interessados.";ROLE=REQ-PA
 RTICIPANT:Vereadores, munícipes e quaisquer interessados.
CONTACT:Adjane Luiza de Queiroz\, 034 34541275\, secretaria@carneirinho.mg
 .leg.br
CREATED;VALUE=DATE-TIME:20180918T172317Z
LAST-MODIFIED;VALUE=DATE-TIME:20180918T172237Z
LOCATION:Plenário da Câmara Municipal de Carneirinho
URL:https://www.carneirinho.mg.leg.br/institucional/eventos/13a-reuniao-or
 dinaria-de-2018
END:VEVENT
BEGIN:VTIMEZONE
TZID:Brazil/East
X-LIC-LOCATION:Brazil/East
BEGIN:STANDARD
DTSTART;VALUE=DATE-TIME:20180217T230000
TZNAME:BRT
TZOFFSETFROM:-0200
TZOFFSETTO:-0300
END:STANDARD
END:VTIMEZONE
END:VCALENDAR
