BEGIN:VCALENDAR
VERSION:2.0
PRODID:-//Plone.org//NONSGML plone.app.event//EN
X-WR-TIMEZONE:Brazil/East
BEGIN:VEVENT
SUMMARY:05ª reunião ordinária de 2018
DTSTART;TZID=Brazil/East;VALUE=DATE-TIME:20180402T133000
DTEND;TZID=Brazil/East;VALUE=DATE-TIME:20180402T170100
DTSTAMP;VALUE=DATE-TIME:20260422T062250Z
UID:23439af9960d41378085a8efdcd36e6a@www.carneirinho.mg.leg.br
ATTENDEE;CN="Vereadores, munícipes e quaisquer interessados.";ROLE=REQ-PA
 RTICIPANT:Vereadores, munícipes e quaisquer interessados.
CONTACT:Adjane Luiza de Queiroz\, +553434541275\, secretaria@carneirinho.m
 g.leg.br\, http://sapl.carneirinho.mg.leg.br/sapl/cadastros/sessao_plenari
 a/sessao_plenaria_index_html
CREATED;VALUE=DATE-TIME:20180402T132616Z
LAST-MODIFIED;VALUE=DATE-TIME:20180402T132642Z
LOCATION:Plenário da Câmara Municipal de Carneirinho
URL:https://www.carneirinho.mg.leg.br/institucional/eventos/05a-reuniao-or
 dinaria-de-2018
END:VEVENT
BEGIN:VTIMEZONE
TZID:Brazil/East
X-LIC-LOCATION:Brazil/East
BEGIN:STANDARD
DTSTART;VALUE=DATE-TIME:20180217T230000
TZNAME:BRT
TZOFFSETFROM:-0200
TZOFFSETTO:-0300
END:STANDARD
END:VTIMEZONE
END:VCALENDAR
