BEGIN:VCALENDAR
VERSION:2.0
PRODID:-//Plone.org//NONSGML plone.app.event//EN
X-WR-TIMEZONE:Brazil/East
BEGIN:VEVENT
SUMMARY:02ª reunião ordinária de 2018
DTSTART;TZID=Brazil/East;VALUE=DATE-TIME:20180219T133000
DTEND;TZID=Brazil/East;VALUE=DATE-TIME:20180219T170000
DTSTAMP;VALUE=DATE-TIME:20260422T012047Z
UID:e98c5e2257b242179acec156daa94356@pm3.carneirinho.mg.leg.br
ATTENDEE;CN="Vereadores, munícipes e quaisquer interessados.";ROLE=REQ-PA
 RTICIPANT:Vereadores, munícipes e quaisquer interessados.
CONTACT:Adjane Luiza de Queiroz\, 034 3454 1275\, secretaria@carneirinho.m
 g.leg.br\, http://sapl.carneirinho.mg.leg.br/sapl/consultas/sessao_plenari
 a/sessao_plenaria_index_html
CREATED;VALUE=DATE-TIME:20180219T123504Z
LAST-MODIFIED;VALUE=DATE-TIME:20180219T123513Z
LOCATION:Plenário da Câmara Municipal de Carneirinho
URL:https://www.carneirinho.mg.leg.br/institucional/eventos/02a-reuniao-or
 dinaria-de-2018
END:VEVENT
BEGIN:VTIMEZONE
TZID:Brazil/East
X-LIC-LOCATION:Brazil/East
BEGIN:STANDARD
DTSTART;VALUE=DATE-TIME:20180217T230000
TZNAME:BRT
TZOFFSETFROM:-0200
TZOFFSETTO:-0300
END:STANDARD
END:VTIMEZONE
END:VCALENDAR
