BEGIN:VCALENDAR
VERSION:2.0
PRODID:-//Plone.org//NONSGML plone.app.event//EN
X-WR-TIMEZONE:Brazil/East
BEGIN:VEVENT
SUMMARY:02ª reunião extraordinária de 2018
DTSTART;TZID=Brazil/East;VALUE=DATE-TIME:20180514T080000
DTEND;TZID=Brazil/East;VALUE=DATE-TIME:20180514T110000
DTSTAMP;VALUE=DATE-TIME:20260421T234648Z
UID:d6c65f79d3674626aaf2a7444dfcf5fd@www.carneirinho.mg.leg.br
ATTENDEE;CN="Vereadores, munícipes e quaisquer interessados.";ROLE=REQ-PA
 RTICIPANT:Vereadores, munícipes e quaisquer interessados.
CONTACT:Angelo Marconde de Oliveira Neto\, +553434541275\, secretaria@carn
 eirinho.mg.leg.br\, http://sapl.carneirinho.mg.leg.br/sapl/cadastros/sessa
 o_plenaria/sessao_plenaria_index_html
CREATED;VALUE=DATE-TIME:20180514T200623Z
LAST-MODIFIED;VALUE=DATE-TIME:20180514T200639Z
LOCATION:Plenário da Câmara Municipal de Carneirinho
URL:https://www.carneirinho.mg.leg.br/institucional/eventos/02a-reuniao-ex
 traordinaria-de-2018
END:VEVENT
BEGIN:VTIMEZONE
TZID:Brazil/East
X-LIC-LOCATION:Brazil/East
BEGIN:STANDARD
DTSTART;VALUE=DATE-TIME:20180217T230000
TZNAME:BRT
TZOFFSETFROM:-0200
TZOFFSETTO:-0300
END:STANDARD
END:VTIMEZONE
END:VCALENDAR
